Workbook

Sheet 作業の仕方
A3: このファイルは複数の通帳の結果をまとめるためのファイルです。
A5: 作業の流れは以下の通りになります。
A7: １．通帳ごとに作成している課外活動団体会計用様式の集計表の結果を通帳①～③に記入します。
A8: ２．決算報告書

Sheet 通帳１
A1: R×年度鹿屋体育大学〇〇部（通帳名）集計表
C4: 支出 | E4: 収入 | H4: 科目別合計
B5: 1月 | H5: 支出科目 | J5: 収入科目
B6: 2月 | H6: 消耗品費 | J6: 部費
B7: 3月 | H7: 諸会費 | J7: 寄附金
B8: 4月 | H8: 通信費 | J8: スポンサー収入
B9: 5月 | H9: 旅費交通費 | J9: 体育会分配金
B10: 6月 | H10: 車両費 | J10: その他
B11: 7月 | H11: 備品費
B12: 8月 | H12: 修繕費
B13: 9月 | H13: 交際費
B14: 10月 | H14: 厚生費
B15: 11月 | H15: 謝金
B16: 12月 | H16: 貨物運搬費
B17: 合計 | C17: =SUM(C5:C16) -> 0 | E17: =SUM(E5:F16) -> 0 | H17: 賃借料
H18: 水道光熱費
H19: 印刷費
H20: 銀行手数料
H21: その他
C23: 期末通帳残高 | H23: 前期繰越金額
C24: ※上記期末通帳残高について期末段階の手持ち現金は全額通帳に入金の上記載すること | H24: 当期総支出 | J24: =C17 -> 0
H25: 当期総収入 | J25: =E17 -> 0
H26: 来期繰越額 | J26: =J23-J24+J25 -> 0

Sheet 通帳2
A1: R×年度鹿屋体育大学〇〇部（通帳名）集計表
C4: 支出 | E4: 収入 | H4: 科目別合計
B5: 1月 | H5: 支出科目 | J5: 収入科目
B6: 2月 | H6: 消耗品費 | J6: 部費
B7: 3月 | H7: 諸会費 | J7: 寄附金
B8: 4月 | H8: 通信費 | J8: スポンサー収入
B9: 5月 | H9: 旅費交通費 | J9: 体育会分配金
B10: 6月 | H10: 車両費 | J10: その他
B11: 7月 | H11: 備品費
B12: 8月 | H12: 修繕費
B13: 9月 | H13: 交際費
B14: 10月 | H14: 厚生費
B15: 11月 | H15: 謝金
B16: 12月 | H16: 貨物運搬費
B17: 合計 | C17: =SUM(C5:D16) -> 0 | E17: =SUM(E5:F16) -> 0 | H17: 賃借料
H18: 水道光熱費
H19: 印刷費
H20: 銀行手数料
H21: その他
C23: 期末通帳残高 | H23: 前期繰越金額
C24: ※上記期末通帳残高について期末段階の手持ち現金は全額通帳に入金の上記載すること | H24: 当期総支出 | J24: =C17 -> 0
H25: 当期総収入 | J25: =E17 -> 0
H26: 来期繰越額 | J26: =J23-J24+J25 -> 0

Sheet 通帳3
A1: R×年度鹿屋体育大学〇〇部（通帳名）集計表
C4: 支出 | E4: 収入 | H4: 科目別合計
B5: 1月 | H5: 支出科目 | J5: 収入科目
B6: 2月 | H6: 消耗品費 | J6: 部費
B7: 3月 | H7: 諸会費 | J7: 寄附金
B8: 4月 | H8: 通信費 | J8: スポンサー収入
B9: 5月 | H9: 旅費交通費 | J9: 体育会分配金
B10: 6月 | H10: 車両費 | J10: その他
B11: 7月 | H11: 備品費
B12: 8月 | H12: 修繕費
B13: 9月 | H13: 交際費
B14: 10月 | H14: 厚生費
B15: 11月 | H15: 謝金
B16: 12月 | H16: 貨物運搬費
B17: 合計 | H17: 賃借料
H18: 水道光熱費
H19: 印刷費
H20: 銀行手数料
H21: その他
C23: 期末通帳残高 | H23: 前期繰越金額
C24: ※上記期末通帳残高について期末段階の手持ち現金は全額通帳に入金の上記載すること | H24: 当期総支出 | J24: =D17 -> 0
H25: 当期総収入 | J25: =F17 -> 0
H26: 来期繰越額 | J26: =J23-J24+J25 -> 0

Sheet 決算報告書（通帳集計）
A1: R×年度鹿屋体育大学〇〇部会計決算報告書
C4: 支出 | E4: 収入 | H4: 科目別合計
B5: 1月 | C5: =SUM(通帳１!C5,通帳2!C5,通帳3!C5) -> 0 | E5: =SUM(通帳１!E5,通帳2!E5,通帳3!E5) -> 0 | H5: 支出科目 | J5: 収入科目
B6: 2月 | C6: =SUM(通帳１!C6,通帳2!C6,通帳3!C6) -> 0 | E6: =SUM(通帳１!E6,通帳2!E6,通帳3!E6) -> 0 | H6: 消耗品費 | I6: =SUM(通帳１!I6,通帳2!I6,通帳3!I6) -> 0 | J6: 部費 | K6: =SUM(通帳１!K6,通帳2!K6,通帳3!K6) -> 0
B7: 3月 | C7: =SUM(通帳１!C7,通帳2!C7,通帳3!C7) -> 0 | E7: =SUM(通帳１!E7,通帳2!E7,通帳3!E7) -> 0 | H7: 諸会費 | I7: =SUM(通帳１!I7,通帳2!I7,通帳3!I7) -> 0 | J7: 寄附金 | K7: =SUM(通帳１!K7,通帳2!K7,通帳3!K7) -> 0
B8: 4月 | C8: =SUM(通帳１!C8,通帳2!C8,通帳3!C8) -> 0 | E8: =SUM(通帳１!E8,通帳2!E8,通帳3!E8) -> 0 | H8: 通信費 | I8: =SUM(通帳１!I8,通帳2!I8,通帳3!I8) -> 0 | J8: スポンサー収入 | K8: =SUM(通帳１!K8,通帳2!K8,通帳3!K8) -> 0
B9: 5月 | C9: =SUM(通帳１!C9,通帳2!C9,通帳3!C9) -> 0 | E9: =SUM(通帳１!E9,通帳2!E9,通帳3!E9) -> 0 | H9: 旅費交通費 | I9: =SUM(通帳１!I9,通帳2!I9,通帳3!I9) -> 0 | J9: 体育会分配金 | K9: =SUM(通帳１!K9,通帳2!K9,通帳3!K9) -> 0
B10: 6月 | C10: =SUM(通帳１!C10,通帳2!C10,通帳3!C10) -> 0 | E10: =SUM(通帳１!E10,通帳2!E10,通帳3!E10) -> 0 | H10: 車両費 | I10: =SUM(通帳１!I10,通帳2!I10,通帳3!I10) -> 0 | J10: その他 | K10: =SUM(通帳１!K10,通帳2!K10,通帳3!K10) -> 0
B11: 7月 | C11: =SUM(通帳１!C11,通帳2!C11,通帳3!C11) -> 0 | E11: =SUM(通帳１!E11,通帳2!E11,通帳3!E11) -> 0 | H11: 備品費 | I11: =SUM(通帳１!I11,通帳2!I11,通帳3!I11) -> 0
B12: 8月 | C12: =SUM(通帳１!C12,通帳2!C12,通帳3!C12) -> 0 | E12: =SUM(通帳１!E12,通帳2!E12,通帳3!E12) -> 0 | H12: 修繕費 | I12: =SUM(通帳１!I12,通帳2!I12,通帳3!I12) -> 0
B13: 9月 | C13: =SUM(通帳１!C13,通帳2!C13,通帳3!C13) -> 0 | E13: =SUM(通帳１!E13,通帳2!E13,通帳3!E13) -> 0 | H13: 交際費 | I13: =SUM(通帳１!I13,通帳2!I13,通帳3!I13) -> 0
B14: 10月 | C14: =SUM(通帳１!C14,通帳2!C14,通帳3!C14) -> 0 | E14: =SUM(通帳１!E14,通帳2!E14,通帳3!E14) -> 0 | H14: 厚生費 | I14: =SUM(通帳１!I14,通帳2!I14,通帳3!I14) -> 0
B15: 11月 | C15: =SUM(通帳１!C15,通帳2!C15,通帳3!C15) -> 0 | E15: =SUM(通帳１!E15,通帳2!E15,通帳3!E15) -> 0 | H15: 謝金 | I15: =SUM(通帳１!I15,通帳2!I15,通帳3!I15) -> 0
B16: 12月 | C16: =SUM(通帳１!C16,通帳2!C16,通帳3!C16) -> 0 | E16: =SUM(通帳１!E16,通帳2!E16,通帳3!E16) -> 0 | H16: 貨物運搬費 | I16: =SUM(通帳１!I16,通帳2!I16,通帳3!I16) -> 0
B17: 合計 | C17: =SUM(C5:D16) -> 0 | E17: =SUM(E5:F16) -> 0 | H17: 賃借料 | I17: =SUM(通帳１!I17,通帳2!I17,通帳3!I17) -> 0
H18: 水道光熱費 | I18: =SUM(通帳１!I18,通帳2!I18,通帳3!I18) -> 0
H19: 印刷費 | I19: =SUM(通帳１!I19,通帳2!I19,通帳3!I19) -> 0
H20: 銀行手数料 | I20: =SUM(通帳１!I20,通帳2!I20,通帳3!I20) -> 0
H21: その他 | I21: =SUM(通帳１!I21,通帳2!I21,通帳3!I21) -> 0
C23: 期末通帳残高 | E23: =SUM(通帳１!E23,通帳2!E23,通帳3!E23) -> 0 | H23: 前期繰越金額 | J23: =通帳１!J23+通帳2!J23+通帳3!J23 -> 0
C24: ※上記期末通帳残高について期末段階の手持ち現金は全額通帳に入金の上記載すること | H24: 当期総支出 | J24: =C17 -> 0
H25: 当期総収入 | J25: =E17 -> 0
H26: 来期繰越額 | J26: =J23-J24+J25 -> 0
H29: 令和〇年度鹿屋体育大学〇〇部出納簿並びに決算報告書について特段の指摘するべき点はございませんでした。
H31: 令和〇年〇〇月××日
H32: 鹿屋体育大学〇〇部監査人 | J32: 鹿屋 | K32: 太郎 | L32: 印
